BEGIN:VCALENDAR
VERSION:2.0
PRODID:-//eventon.com NONSGML v1.0//EN
CALSCALE:GREGORIAN
METHOD:PUBLISH
BEGIN:VEVENT
UID:69e5f92f2376c
DTSTAMP:20260420T100015Z
DTSTART:20260321T003000Z
DTEND:20260321T013000Z
LOCATION:
SUMMARY:Chocolate & Wine Class - 4 Spaces Left
DESCRIPTION:Enjoy an evening of education and entertainment at one of our C
 hocolate & Wine Pairing classes\,  full description on Eventbrite. We are h
 onoring all active and expired Groupons/Living Social vouchers at this time
 . There are two ways to make reservations: 1. If you have a Groupon (active
  or expired)\,  Gift[..]\nhttps://www.thechocolatetherapist.com/events/choc
 olate-and-wine-pairing-class-6/
URL:https://www.thechocolatetherapist.com/events/chocolate-and-wine-pairing-class-6/
END:VEVENT
END:VCALENDAR